BEGIN:VCALENDAR
VERSION:2.0
PRODID:-//Semaphorus - ECPv6.15.20//NONSGML v1.0//EN
CALSCALE:GREGORIAN
METHOD:PUBLISH
X-WR-CALNAME:Semaphorus
X-ORIGINAL-URL:https://www.semaphorus.fr
X-WR-CALDESC:Évènements pour Semaphorus
REFRESH-INTERVAL;VALUE=DURATION:PT1H
X-Robots-Tag:noindex
X-PUBLISHED-TTL:PT1H
BEGIN:VTIMEZONE
TZID:UTC
BEGIN:STANDARD
TZOFFSETFROM:+0000
TZOFFSETTO:+0000
TZNAME:UTC
DTSTART:20150101T000000
END:STANDARD
END:VTIMEZONE
BEGIN:VEVENT
DTSTART;TZID=UTC:20160123T100000
DTEND;TZID=UTC:20160124T170000
DTSTAMP:20260423T084910
CREATED:20151126T093236Z
LAST-MODIFIED:20151204T082050Z
UID:2775-1453543200-1453654800@www.semaphorus.fr
SUMMARY:Stage "la Femme médecine" initiation à la rencontre du Chamanisme au féminin
DESCRIPTION:La femme médecine – Stage d’initiation à la rencontre du chamanisme féminin. \nJe vous propose de partir à la découverte du chamanisme nordique et de la médecine des femmes. \nProgramme des journées. \n* Énergétique ( nettoyage\, entretien\, techniques avec les huiles et les plantes)\n* Autel\, offrandes \, création des encens et utilisation des plantes dans la tradition\n* la roue de l’année ( fêtes druidiques)\n* voyage chamanique et tambour\n* sanctuaire astral\n* les objets sacrés\n* danse et énergie de la kundalini\n* puissance au féminin \n \nDes méditations\, des échanges\,  création d’objets sacrés\, sacs médecine…. \nVos tambours et vos plumes sont les bienvenus :)\, l’occasion de les décorer dans le cadre de ces stages ! \nWeek-end animé par Laëtitia Ransonnet\, praticienne en chamanisme fémininin.\nSi je devais me définir \, de toute mon âme\, je dirai fille de la Déesse Mère\, de la terre\, une prêtresse guérisseuse de par ma formation et le sacerdoce qui l’accompagne\, « une femme médecine »de par mes voyages entre les « mondes »!Profondément au service du féminin sacré et de la guérison intèrieure…. profondément au service de l’autre.. \n Ma pratique mêle du reiki \, du chamanisme\, de l’aromathérapie énergétique\, de la guidance; un souffle de folie\, une bonne dose de bonne humeur\, le tout saupoudré de respect et d’humilité pour mon plus grand bonheur\, celui du travail avec l’ énergie\, pour permettre à chacun de trouver sa propre voie ! \nD’un point de vue pratique\, le stage démarre le samedi matin à 10h pour vous permettre d’arriver avec le bateau de 9h30 et se termine le dimanche avant 17h. Le tarif s’entend hors hébergement et repas. Possibilité de partager une location entre participantes pour un tarif négocié autour de 40€/nuit/pers. (en fonction du nombre d’inscrites). Les repas pourront alors être préparés collectivement sur le lieu d’hébergement. Pour découvrir comment vous rendre sur l’île-de-Bréhat : https://www.semaphorus.fr/a-propos/comment-venir-a-brehat/
URL:https://www.semaphorus.fr/planning-activites/stage-chamanisme-au-feminin/
LOCATION:île de Bréhat\, grève de l'église\, Bréhat\, 22870\, France
CATEGORIES:Stage
ATTACH;FMTTYPE=image/jpeg:https://www.semaphorus.fr/wp-content/uploads/2015/11/IMG_20151101_130709.jpg
ORGANIZER;CN="Semaphorus":MAILTO:veronique@semaphorus.fr
END:VEVENT
END:VCALENDAR