BEGIN:VCALENDAR
VERSION:2.0
PRODID:-//Semaphorus - ECPv6.15.20//NONSGML v1.0//EN
CALSCALE:GREGORIAN
METHOD:PUBLISH
X-ORIGINAL-URL:https://www.semaphorus.fr
X-WR-CALDESC:Évènements pour Semaphorus
REFRESH-INTERVAL;VALUE=DURATION:PT1H
X-Robots-Tag:noindex
X-PUBLISHED-TTL:PT1H
BEGIN:VTIMEZONE
TZID:UTC
BEGIN:STANDARD
TZOFFSETFROM:+0000
TZOFFSETTO:+0000
TZNAME:UTC
DTSTART:20160101T000000
END:STANDARD
END:VTIMEZONE
BEGIN:VEVENT
DTSTART;VALUE=DATE:20170826
DTEND;VALUE=DATE:20170827
DTSTAMP:20260422T052540
CREATED:20150518T195540Z
LAST-MODIFIED:20180508T174200Z
UID:2545-1503705600-1503791999@www.semaphorus.fr
SUMMARY:J'essaie la méditation
DESCRIPTION:La journée sera rythmée par des méditations guidées et des balades méditative « en pleine conscience ».\nVous expérimenterez la méditation silencieuse\, guidée\, au son du tambour chamanique et du bol tibétain.\nVous découvrirez et vous familiarisez avec la technique Anapana sati qui signifie en pali « l’attention sur le souffle ».\nElle consiste à observer la respiration naturelle\, comme elle se présente telle qu’elle entre et sort par les narines. Elle a pour but de calmer l’esprit\, de développer votre capacité de concentration. Elle vous permettra de développer une force intérieure qui aide à choisir les actions justes. \nQuels sont les bienfaits ? Elle vous permettra de développer une force intérieure qui aide à choisir les actions justes.\nQuand la mer est houleuse\, le sédiment est brassé et l’eau devient trouble\, mais quand le vent tombe\, la boue se dépose lentement et l’eau devient claire.\nDe la même manière\, quand nous réussissons\, grâce à la concentration sur la respiration\, à calmer le flot incessant de nos distractions\, notre esprit devient singulièrement clair et lucide.\nMême si la méditation sur la respiration n’est qu’une étape préliminaire\, elle peut être assez puissante. Cette pratique nous montre que le simple contrôle de l’esprit nous permet de connaître la paix intérieure et le contentement\, sans avoir à dépendre d’aucune manière des conditions extérieures.\nLe stress et les tensions éprouvés en temps normal proviennent en grande partie de notre esprit\, et bon nombre de nos problèmes\, y compris les problèmes de santé\, sont causés ou aggravés par ce stress. En ne méditant que dix ou quinze minutes par jour sur la respiration\, vous serez en mesure de diminuer ce stress. \nAnimé par Véronique Languille \nPour réserver : Pour vous inscrire\, merci d’envoyer votre demande par mail.  Votre participation est ensuite confirmée dès versement d’un acompte de 50 €  par chèque à l’ordre de Semaphorus ou par virement paypal veronique@semaphorus.fr ou bancaire (coordonnées bancaires sur demande) . \nJe m’inscris \n 
URL:https://www.semaphorus.fr/planning-activites/initiation-a-la-meditation-anapana-sati-4/
LOCATION:île de Bréhat\, grève de l'église\, Bréhat\, 22870\, France
CATEGORIES:Initiation,Méditation,Sagesse/spiritualité
ATTACH;FMTTYPE=image/jpeg:https://www.semaphorus.fr/wp-content/uploads/2014/04/IMG_4094.jpg
ORGANIZER;CN="Semaphorus":MAILTO:veronique@semaphorus.fr
END:VEVENT
END:VCALENDAR