BEGIN:VCALENDAR
VERSION:2.0
PRODID:-//Semaphorus - ECPv6.15.20//NONSGML v1.0//EN
CALSCALE:GREGORIAN
METHOD:PUBLISH
X-WR-CALNAME:Semaphorus
X-ORIGINAL-URL:https://www.semaphorus.fr
X-WR-CALDESC:Évènements pour Semaphorus
REFRESH-INTERVAL;VALUE=DURATION:PT1H
X-Robots-Tag:noindex
X-PUBLISHED-TTL:PT1H
BEGIN:VTIMEZONE
TZID:UTC
BEGIN:STANDARD
TZOFFSETFROM:+0000
TZOFFSETTO:+0000
TZNAME:UTC
DTSTART:20170101T000000
END:STANDARD
END:VTIMEZONE
BEGIN:VEVENT
DTSTART;VALUE=DATE:20180121
DTEND;VALUE=DATE:20180122
DTSTAMP:20260421T221734
CREATED:20170502T065959Z
LAST-MODIFIED:20170808T055146Z
UID:3725-1516492800-1516579199@www.semaphorus.fr
SUMMARY:J'essaie la méditation
DESCRIPTION:La journée sera rythmée par des méditations guidées et des balades méditative « en pleine conscience ».\nVous expérimenterez la méditation silencieuse\, guidée\, au son du tambour chamanique et du bol tibétain.\nVous découvrirez et vous familiarisez avec la technique Anapana sati qui signifie en pali « l’attention sur le souffle ».\nElle consiste à observer la respiration naturelle\, comme elle se présente telle qu’elle entre et sort par les narines. Elle a pour but de calmer l’esprit\, de développer votre capacité de concentration. Elle vous permettra de développer une force intérieure qui aide à choisir les actions justes. \nQuels sont les bienfaits ? Elle vous permettra de développer une force intérieure qui aide à choisir les actions justes.\nQuand la mer est houleuse\, le sédiment est brassé et l’eau devient trouble\, mais quand le vent tombe\, la boue se dépose lentement et l’eau devient claire.\nDe la même manière\, quand nous réussissons\, grâce à la concentration sur la respiration\, à calmer le flot incessant de nos distractions\, notre esprit devient singulièrement clair et lucide.\nMême si la méditation sur la respiration n’est qu’une étape préliminaire\, elle peut être assez puissante. Cette pratique nous montre que le simple contrôle de l’esprit nous permet de connaître la paix intérieure et le contentement\, sans avoir à dépendre d’aucune manière des conditions extérieures.\nLe stress et les tensions éprouvés en temps normal proviennent en grande partie de notre esprit\, et bon nombre de nos problèmes\, y compris les problèmes de santé\, sont causés ou aggravés par ce stress. En ne méditant que dix ou quinze minutes par jour sur la respiration\, vous serez en mesure de diminuer ce stress. \nAnimé par Véronique Languille \nPour réserver : Pour vous inscrire\, merci d’envoyer votre demande par mail.  Votre participation est ensuite confirmée dès versement d’un acompte de 50 €  par chèque à l’ordre de Véronique Languille ou par virement bancaire (coordonnées bancaires sur demande) . \nDates proposées en 2018 : dimanche 21 janvier\, dimanche 8 avril\, dimanche 26 août. \nJe m’inscris
URL:https://www.semaphorus.fr/planning-activites/journee-decouverte-de-la-meditation/
LOCATION:île de Bréhat\, grève de l'église\, Bréhat\, 22870\, France
CATEGORIES:Initiation,Méditation,Sagesse/spiritualité
ATTACH;FMTTYPE=image/jpeg:https://www.semaphorus.fr/wp-content/uploads/2012/03/meditation-semaphorus.jpg
END:VEVENT
BEGIN:VEVENT
DTSTART;TZID=UTC:20180126T100000
DTEND;TZID=UTC:20180128T093000
DTSTAMP:20260421T221734
CREATED:20171201T083826Z
LAST-MODIFIED:20171201T093537Z
UID:4310-1516960800-1517131800@www.semaphorus.fr
SUMMARY:La toile que nous tissons
DESCRIPTION:Atelier de groupe proposé par Claire Marie\, Chamane\, auteur du livre « Comment je suis devenue chamane » \nParfois en riant je dis ‘mon livre a réveillé toutes sorcières de France’. C’est un petit peu prétentieux\, et pas tout à fait faux.\nDepuis deux ans\, grâce à mon livre de nombreuses belles personnes se sont présentées à moi\, bref VOUS. Comme moi vous\, tissez une toile. Une toile de psychologue\, de guérisseur\, d’artiste\, de visionnaire\, de fermier ou de simple poète…  \nCe qui nous relie\, enfin\, me semble t-il\, c’est cette la Grande Toile humaine\, cette interconnexion de tous les êtres: \nCe que nous partageons peut être aussi\, c’est que\, malgré la richesse du chemin\, le lien à cette toile est parfois lourd\, douloureux\, difficile à comprendre. La toile elle même pompe\, déborde\, mange et dévore notre vie privée malgré sa beauté indéniable et le choix karmique de s’y relier consciemment. Trouver l’équilibre entre ce choix de vie de service et un chemin intérieur est parfois ardu. \nDescription de l’Atelier :\nDans cet Atelier dont le contenu se créera de façon organique suivant les individus qui s’y rendrons\, je vous propose de venir observer votre toile\, celle du monde\, vos choix\, les parties de vous qui ont besoin de se ressourcer et celles qui sont en lien profond avec votre destinée et le monde.\nMon but serait qu’à la fin de l’Atelier vous ayiez une image et un ressenti plus clair de ce dont vous avez besoin pour honorer votre Moi intérieur et que  vous sentiez – et ressentiez- votre lien avec la Grande Toile comme un soutien.\n \nTechniques utilisées :\nNous utiliserons le champ énergétique du groupe\, voyages chamaniques\, chants\, paroles\,mouvements\, tambour\, danse\, méditation\, silence\, visualisation et paroles partagées. L’Atelier sera clôturé par un Feu le soir du 27 Janvier. \nA qui peut profiter cet Atelier ?\nParticulièrement des personnes investies dans le soins ou dans un projet communautaire\, des personnes qui ont le sentiment de ‘porter’ quelque chose pour le monde.\nLes places sont limitées. \nD’un point de vue pratique\nLe stage coûte 150€ si inscription avant 30 décembre 175 Euros après.\nUn forfait de 120€ est demandé pour deux nuits en chambre partagée entre participants dans une maison typique bréhatine\, les petits déjeuners sont laissés à disposition à la maison\, le repas du vendredi midi et du samedi midi sont compris (cuisine végétarienne\, majoritairement bio et locale)\, le vendredi soir une soupe-repas sera servi sur le lieu d’hébergement. Pour le samedi soir\, c’est libre. La cuisine sera mise à disposition si vous souhaitez préparer quelque chose.\nL’arrivée se fait par le bateau qui part le vendredi matin à 9h30 de l’Arcouest. Vous êtes libres de repartir le dimanche quand vous le souhaitez.\nComment venir chez Semaphorus ?  \nJe m’inscris \n  \n« Psychologue\, je travaille à l’hôpital\, dans un service de management de la douleur. Il y a cinq ans\, j’ai été initiée à la médecine traditionnelle aztèque\, qui a transformé ma vie et ma pratique de thérapeute. Depuis\, je voyage dans le monde des Esprits\, rentre dans les arbres\, converse avec les orages et visite l’étoile Sirius – rien que ça !Vous me trouverez sans doute un peu “perchée”\, je le conçois volontiers. Mais parfois\, en quelques séances chamaniques\, se résolvent des problèmes que la psychothérapie\, même après plusieurs années\, ne parvient pas toujours à dénouer. Pour aider mes patients à guérir\, j’ai essayé de comprendre comment exploiter cette énergie inconnue que je capte plus ou moins malgré moi.Les scientifiques\, qui autrefois ricanaient des transes\, étudient désormais ce qui se passe dans le cerveau lorsqu’elles se produisent. Je vous raconte les miennes\, drôles ou émouvantes\, et vous invite à suivre le fil\, du Mexique au Népal\, pour plonger vous aussi dans le monde des Esprits. » Psychologue exerçant en Angleterre à l’hôpital et à son compte\, Claire Marie signe ici son premier ouvrage.
URL:https://www.semaphorus.fr/planning-activites/la-toile-que-nous-tissons/
LOCATION:île de Bréhat\, grève de l'église\, Bréhat\, 22870\, France
CATEGORIES:Sagesse/spiritualité
ATTACH;FMTTYPE=image/jpeg:https://www.semaphorus.fr/wp-content/uploads/2017/12/image2.jpg
ORGANIZER;CN="Semaphorus":MAILTO:veronique@semaphorus.fr
END:VEVENT
END:VCALENDAR