BEGIN:VCALENDAR
VERSION:2.0
PRODID:-//Semaphorus - ECPv6.15.20//NONSGML v1.0//EN
CALSCALE:GREGORIAN
METHOD:PUBLISH
X-WR-CALNAME:Semaphorus
X-ORIGINAL-URL:https://www.semaphorus.fr
X-WR-CALDESC:Évènements pour Semaphorus
REFRESH-INTERVAL;VALUE=DURATION:PT1H
X-Robots-Tag:noindex
X-PUBLISHED-TTL:PT1H
BEGIN:VTIMEZONE
TZID:UTC
BEGIN:STANDARD
TZOFFSETFROM:+0000
TZOFFSETTO:+0000
TZNAME:UTC
DTSTART:20170101T000000
END:STANDARD
END:VTIMEZONE
BEGIN:VEVENT
DTSTART;TZID=UTC:20180220T173000
DTEND;TZID=UTC:20180220T183000
DTSTAMP:20260421T205114
CREATED:20180213T084220Z
LAST-MODIFIED:20180213T084400Z
UID:4411-1519147800-1519151400@www.semaphorus.fr
SUMMARY:Conférence atelier : être à l'écoute de son cycle féminin
DESCRIPTION:Découvrir les 4 phases à travers lesquelles passe une femme au cours de son cycle\, comprendre comment utiliser à bon escient les énergies dans les moments optimaux\, c’est-à-dire les jours où certaines de nos capacités sont renforcées. \nMardi 20 février de 17h30 à 18h30 à la Biocoop de Paimpol. \nAnimé par Véronique Languille\, thérapeute. \nParticipation libre & inscription obligatoire en caisse. Nombre de places limité à 10 personnes.
URL:https://www.semaphorus.fr/planning-activites/conference-atelier-etre-a-lecoute-de-son-cycle-feminin/
LOCATION:Biocoop de Paimpol\, 24 rue Raymond Pellier\,\, Paimpol\, 22500\, France
CATEGORIES:Couple/famille/enfants
ATTACH;FMTTYPE=image/jpeg:https://www.semaphorus.fr/wp-content/uploads/2018/02/red-moon-cycle-lune-rouge.jpg
END:VEVENT
END:VCALENDAR