BEGIN:VCALENDAR
VERSION:2.0
PRODID:-//Semaphorus - ECPv6.15.20//NONSGML v1.0//EN
CALSCALE:GREGORIAN
METHOD:PUBLISH
X-ORIGINAL-URL:https://www.semaphorus.fr
X-WR-CALDESC:Évènements pour Semaphorus
REFRESH-INTERVAL;VALUE=DURATION:PT1H
X-Robots-Tag:noindex
X-PUBLISHED-TTL:PT1H
BEGIN:VTIMEZONE
TZID:UTC
BEGIN:STANDARD
TZOFFSETFROM:+0000
TZOFFSETTO:+0000
TZNAME:UTC
DTSTART:20170101T000000
END:STANDARD
END:VTIMEZONE
BEGIN:VEVENT
DTSTART;TZID=UTC:20181001T093000
DTEND;TZID=UTC:20181005T113000
DTSTAMP:20260421T091545
CREATED:20150526T100359Z
LAST-MODIFIED:20170522T190302Z
UID:2590-1538386200-1538739000@www.semaphorus.fr
SUMMARY:Bien vivre son départ à la retraite
DESCRIPTION:Apprendre à être ce que l’on est\, plus ce que l’on fait. \nLa crise de la retraite est le résultat de bouleversements profonds dans ce qui faisait repère et continuité jusqu’alors. On est face une redéfinition de l’image de soi\, de la représentation que l’individu a de lui-même. Il y a une réelle perte d’appartenance qui peut être source d’angoisse. \nComment faire pour organiser sa vie autrement ? comment occuper son temps libre après avoir eu un emploi du temps bien (trop) chargé pendant des années ? quelles priorités\, quel sens donner désormais à sa vie ? \nJe vous invite à faire le point pour vous reconnecter à celui ou celle que vous êtes réellement\, je vous accompagne pour faire le deuil de votre vie professionnelle et vous aider à trouver de nouveaux repères afin d’éviter le blues du jeune retraité. \nCe stage s’adresse à vous\, que vous soyez homme ou femme\, déjà retraité(e) ou proche de la retraite. \nComment ? Grâce à une méthode basée sur des outils de PNL\, analyse transactionnelle\, communication non violente\, méditation. \nQuand ? Lors de vacances à thème\, les ateliers ont lieu tous les matins de 9h30 à 11h30 pendant une semaine\, du lundi au vendredi. Le reste du temps\, vous profitez de vos vacances sur l’ile-de-Bréhat. \nCombien ? 200 €. Hors logement et repas. Si vous avez besoin d’aide pour trouver un logement\, n’hésitez pas à nous contacter. \nAnimé par Véronique Languille \nTémoignages \nPour réserver : Pour vous inscrire\, merci d’envoyer votre demande par mail.  Votre participation est ensuite confirmée dès versement d’un acompte de 100 €  par chèque à l’ordre de Véronique Languille ou par virement bancaire (coordonnées bancaires sur demande) . \nJe m’inscris
URL:https://www.semaphorus.fr/planning-activites/bien-vivre-son-depart-a-la-retraite/
LOCATION:île de Bréhat\, grève de l'église\, Bréhat\, 22870\, France
CATEGORIES:Couple/famille/enfants,Retraite,Stage
ATTACH;FMTTYPE=image/jpeg:https://www.semaphorus.fr/wp-content/uploads/2015/01/439720-fonctionnaires-plus-nombreux-toucher-50.jpg
ORGANIZER;CN="Semaphorus":MAILTO:veronique@semaphorus.fr
END:VEVENT
BEGIN:VEVENT
DTSTART;TZID=UTC:20181012T180000
DTEND;TZID=UTC:20181014T170000
DTSTAMP:20260421T091545
CREATED:20170602T173458Z
LAST-MODIFIED:20180610T103436Z
UID:3978-1539367200-1539536400@www.semaphorus.fr
SUMMARY:Cosmétique au naturel
DESCRIPTION:La beauté vraie\, un équilibre entre santé et bien-être. Plongez au coeur des produits cosmétiques \n\nSavez-vous qu’une européenne applique entre 2 et 3 kg de cosmétique par an uniquement sur son visage?\nEt que les cosmétiques représentent un budget moyen de 205euros/an/personne?\nMais que cachent vraiment ces produits?\n\nCe stage vous propose de faire de vous\, en deux jours\, une experte en la matière. \n\n\nSamedi 13 Octobre : Apprenez à décoder les étiquettes INCI pour pouvoir différencier\, de manière critique et autonome\, les différentes qualités d’un produit (conventionnel/naturel/bio)\, éviter les produits agressifs\, et repérer les « pépites ». \n\n\nDimanche 14 Octobre : Découvrez les bienfaits des « SIMPLES » (huiles\, beurres\, eaux florales\, hydrolats et huiles essentielles) pour chaque type/déséquilibre de peau\, et osez la pratique en composant vos propres produits sur-mesure (savon\, dentifrice\, déodorant\, shampoing\, macérat\, crème visage) dans une ambiance ludique et conviviale. \n\nVous repartirez libérée de toute pression marketing\, riche d’information\, d’un savoir-faire et de produits sains\, aussi économiques qu’efficaces.\nCo-animé par Laureen Amar\, consultante en bio et Jacqueline Mercier\, naturopathe \nParticipation :  \n380 €* incluant : \n\nl’hébergement deux nuits dans une maison ou un gîte\, les chambrées sont partagées entre participants. Supplément chambre individuelle sur demande et dans la limite des places disponibles.\nles petits déjeuners (merci de préciser un régime sans gluten)\nles repas du vendredi soir\, samedi midi\, samedi soir et dimanche midi. Les repas sont végétariens et confectionnés à base de produits majoritairement bio et locaux. Durant la saison touristique\, le repas du vendredi et/ou samedi soir pourra être pris dans un restaurant de l’île.\nles frais de dossier\n\n*Pour toute inscription 90 jours avant la date de début du stage\, le forfait est ramené à 340 €. \n200 € : stage uniquement sans repas\, sans hébergement. \nOrganisation pratique : \nPour vous inscrire\, il suffit d’envoyer un mail avec vos coordonnées et de nous laire parvenir des arrhes de 100€ par chèque à l’ordre de Semaphorus à l’adresse suivante : Semaphorus\, chemin vert\, 22870 Ile-de-Bréhat ou par virement bancaire (coordonnées sur demande).\nVotre inscription sera enregistrée après réception dudit versement. \nLes horaires précis et les aspects pratiques vous seront confirmés par mail dès votre inscription pour vous permettre de vous organiser.\nPensez à consulter nos conditions générales de vente. \nJe m’inscris
URL:https://www.semaphorus.fr/planning-activites/cosmetique-au-naturel/
LOCATION:île de Bréhat\, grève de l'église\, Bréhat\, 22870\, France
CATEGORIES:Santé/forme/beauté
ATTACH;FMTTYPE=image/jpeg:https://www.semaphorus.fr/wp-content/uploads/2017/06/cosmetique-maison.jpg
ORGANIZER;CN="Semaphorus":MAILTO:veronique@semaphorus.fr
END:VEVENT
BEGIN:VEVENT
DTSTART;TZID=UTC:20181020T173000
DTEND;TZID=UTC:20181020T193000
DTSTAMP:20260421T091545
CREATED:20180925T112009Z
LAST-MODIFIED:20180925T112131Z
UID:5056-1540056600-1540063800@www.semaphorus.fr
SUMMARY:Cercle de tambours à la rencontre de votre guide
DESCRIPTION:Durant une soirée de partage\, venez vous asseoir dans le cercle et allez à la rencontre de votre guide au son du tambour médecine\, pour continuer votre chemin à la découverte de vous m’aime.\nLieu : institut un temps pour moi\, 1 rue Anatole LeBraz\, 22 330 Collinée\, Mené\nParticipation : 40 €\nInscription : semaphorus.fr 06.41.36.26.78 ou directement à l’institut.\nNombre de places limité.
URL:https://www.semaphorus.fr/planning-activites/cercle-de-tambours-a-la-rencontre-de-votre-guide/
LOCATION:Un temps pour moi\, 1 rue Anatole Le Braz\, Collinée\, 22330
CATEGORIES:Développement personnel,Sagesse/spiritualité
ATTACH;FMTTYPE=image/jpeg:https://www.semaphorus.fr/wp-content/uploads/2018/09/42563666_2421720554512342_4759180057275006976_n.jpg
ORGANIZER;CN="Semaphorus":MAILTO:veronique@semaphorus.fr
END:VEVENT
BEGIN:VEVENT
DTSTART;TZID=UTC:20181026T180000
DTEND;TZID=UTC:20181028T160000
DTSTAMP:20260421T091545
CREATED:20170530T102652Z
LAST-MODIFIED:20180618T143703Z
UID:3959-1540576800-1540742400@www.semaphorus.fr
SUMMARY:Introduction à  La Voie Toltèque
DESCRIPTION:La Voie Toltèque est une philosophie de vie\, un apprentissage magnifique vers la liberté personnelle. La maîtrise progressive des différents outils proposés nous permet de transformer notre relation à nous-mêmes et à tous ceux qui nous entourent que ce soit dans notre sphère privée et aussi professionnelle. \nDon Miguel Ruiz\, nagual et héritier directe de la lignée Toltèque a partagé cette sagesse ancienne dans les 4 Accords Toltèques®\, et a confié au Cercle de Vie® la diffusion de cette philosophie transformante à toute la francophonie. \nCes accords sont une façon simple et pourtant extraordinaire pour entamer une transformation. Les résultats sont souvent inattendus\, magnifiques\, spectaculaires\, …\nA travers un stage d’un week-end\, le Cercle de Vie® vous propose de découvrir ou redécouvrir les outils efficaces et salvateurs :\n Le pouvoir de l’attention\, de l’intention et l’impeccabilité de la parole (accord n°1)\n La différence entre l’être et le faire\, et comment ne pas prendre les choses personnellement (accord n°2)\n Le danger de l’illusion et comment ne pas faire de suppositions (accord n°3)\n L’importance de l’action en lien avec « faire de son mieux » (accord n°4)\nPar des exercices concrets et des exemples évidents\, Pauline et Jean-Philippe vous amènent à mieux comprendre et intégrer la Voie Toltèque pour mieux la vivre au quotidien. Ne nous trompons pas. Il s’agit bien d’avoir de vrais outils pour exprimer votre être profond\, suivre la voie de votre cœur\, et libérer votre pouvoir créateur ! \nLe but de ce stage Toltèque est d’apprendre à s’aimer et vivre plus heureux. \nCe week-end s’adresse à n’importe quelle personne ouverte au développement personnel. \nCo-animé par Pauline Force et Jean-Philippe Schmitt\, ici en compagnie de Maud Séjournant\, fondatrice de Cercle de Vie® \n \nParticipation :  \n400 € incluant : \n\nl’hébergement deux nuits dans une maison ou un gîte\, les chambrées sont partagées entre participants. Supplément chambre individuelle sur demande et dans la limite des places disponibles.\nles petits déjeuners (merci de préciser un régime sans gluten)\nles repas du vendredi soir\, samedi midi\, samedi soir et dimanche midi. Les repas sont végétariens et confectionnés à base de produits majoritairement bio et locaux. Durant la saison touristique\, le repas du vendredi et/ou samedi soir pourra être pris dans un restaurant de l’île.\nles frais de dossier\n\n220 € : stage uniquement sans repas\, sans hébergement. \nOrganisation pratique : \nPour vous inscrire\, il suffit d’envoyer un mail avec vos coordonnées et de nous laire parvenir des arrhes de 100€ par chèque à l’ordre de Semaphorus à l’adresse suivante : Semaphorus\, chemin vert\, 22870 Ile-de-Bréhat ou par virement bancaire (coordonnées sur demande).\nVotre inscription sera enregistrée après réception dudit versement. \nLes horaires précis et les aspects pratiques vous seront confirmés par mail dès votre inscription pour vous permettre de vous organiser.\nPensez à consulter nos conditions générales de vente. \nJe m’inscris
URL:https://www.semaphorus.fr/planning-activites/introduction-a-la-voie-tolteque/
LOCATION:île de Bréhat\, grève de l'église\, Bréhat\, 22870\, France
CATEGORIES:Développement personnel
ATTACH;FMTTYPE=image/jpeg:https://www.semaphorus.fr/wp-content/uploads/2017/05/K2478-1.jpg
ORGANIZER;CN="Cercle de Vie":MAILTO:voila@cercledevie.com
END:VEVENT
END:VCALENDAR