BEGIN:VCALENDAR
VERSION:2.0
PRODID:-//Semaphorus - ECPv6.15.20//NONSGML v1.0//EN
CALSCALE:GREGORIAN
METHOD:PUBLISH
X-ORIGINAL-URL:https://www.semaphorus.fr
X-WR-CALDESC:Évènements pour Semaphorus
REFRESH-INTERVAL;VALUE=DURATION:PT1H
X-Robots-Tag:noindex
X-PUBLISHED-TTL:PT1H
BEGIN:VTIMEZONE
TZID:UTC
BEGIN:STANDARD
TZOFFSETFROM:+0000
TZOFFSETTO:+0000
TZNAME:UTC
DTSTART:20180101T000000
END:STANDARD
END:VTIMEZONE
BEGIN:VEVENT
DTSTART;TZID=UTC:20190212T100000
DTEND;TZID=UTC:20190212T170000
DTSTAMP:20260421T034631
CREATED:20190113T143009Z
LAST-MODIFIED:20190115T082404Z
UID:5457-1549965600-1549990800@www.semaphorus.fr
SUMMARY:Atelier d'initiation à la CNV (Communication Non Violente) à Pessac
DESCRIPTION:« J’ai constaté à maintes reprises qu’à partir du moment où les gens parlent de leurs besoins plutôt que des torts des autres\, il devient beaucoup plus facile de trouver des moyens de satisfaire tout le monde. » Marshall Rosenberg \nVenez découvrir et expérimenter le processus et la philosophie de la CNV au cours d’un atelier d’une journée.\nLa CNV (communication non violente) permet de comprendre les besoins qui se cachent derrière chaque demande afin de pouvoir communiquer différemment en étant plus respectueux de ses propres besoins et de ceux de l’autre.\nUne journée pour vous permettre d’être à l’écoute de vous-mêmes et des autres.\nAtelier animé par Véronique Languille\, thérapeute\, coach-formatrice\, praticienne en CNV (2010) et organisé par Carole Amores Evénements à Pessac (33).\nParticipation : 85 € \nOrganisation pratique : \nPour vous inscrire\, il suffit d’envoyer un mail avec vos coordonnées et de nous faire parvenir des arrhes de 50€ par chèque à l’ordre de Semaphorus à l’adresse suivante : Semaphorus\, chemin vert\, 22870 Ile-de-Bréhat ou par virement bancaire (coordonnées sur demande).\nVotre inscription sera enregistrée après réception dudit versement. \nLes horaires précis et les aspects pratiques vous seront confirmés par mail dès votre inscription pour vous permettre de vous organiser.\nPensez à consulter nos conditions générales de vente. \nJe m’inscris
URL:https://www.semaphorus.fr/planning-activites/atelier-dinitiation-a-la-cnv-communication-non-violente/
LOCATION:Carole Amores EVenements\, 13 rue du Danemark\, pessac\, 33600\, France
CATEGORIES:Stage
ATTACH;FMTTYPE=image/jpeg:https://www.semaphorus.fr/wp-content/uploads/2019/01/communication.jpg
ORGANIZER;CN="Semaphorus":MAILTO:veronique@semaphorus.fr
END:VEVENT
END:VCALENDAR