BEGIN:VCALENDAR
VERSION:2.0
PRODID:-//Semaphorus - ECPv6.15.20//NONSGML v1.0//EN
CALSCALE:GREGORIAN
METHOD:PUBLISH
X-WR-CALNAME:Semaphorus
X-ORIGINAL-URL:https://www.semaphorus.fr
X-WR-CALDESC:Évènements pour Semaphorus
REFRESH-INTERVAL;VALUE=DURATION:PT1H
X-Robots-Tag:noindex
X-PUBLISHED-TTL:PT1H
BEGIN:VTIMEZONE
TZID:UTC
BEGIN:STANDARD
TZOFFSETFROM:+0000
TZOFFSETTO:+0000
TZNAME:UTC
DTSTART:20180101T000000
END:STANDARD
END:VTIMEZONE
BEGIN:VEVENT
DTSTART;TZID=UTC:20190315T180000
DTEND;TZID=UTC:20190317T170000
DTSTAMP:20260421T023615
CREATED:20150601T133731Z
LAST-MODIFIED:20190115T082017Z
UID:2599-1552672800-1552842000@www.semaphorus.fr
SUMMARY:Reconnexion à son être profond à travers les  4 éléments
DESCRIPTION:Nous vous proposons un voyage unique de reconnexion aux 4 éléments pour vous permettre de toucher votre essence profonde.\nDurant un week-end\, dans un lieu magique\, à l’abri de l’effervescence du quotidien\, nous visiterons l’énergie de chacun des éléments en nous appuyant sur la force de Bréhat.\nLes connexions seront à la fois esprit et corps pour vous permettre de toucher à l’énergie qui vit en vous.\nNous vous inviteront à vous libérer de ce qui n’a plus lieu d’être pour renaître à votre féminité/masculinité sacrée.\nL’eau vous accompagnera dans un nettoyage profond pour vous purifier tant physiquement que symboliquement.\nLa Terre vous offrira une reconnexion à votre nature sauvage. Vous pourrez nourrir vos racines profondes ancrées à la Terre Mère. Vous sculpterez dans la matière et vous relierez aux plantes disponibles sur l’île à cette saison.\nLe Feu vous aidera à entrer en action\, à laisser pétiller en vous ce qui ne demande qu’à brûler (brûler ce qui n’a plus de raison d’être et de poser des intentions d’action juste).\nL’Air\, plus subtil vous permettra de prendre de la distance avec vos problèmes. Le souffle\, le vent seront à l’honneur avec des méditations sur la partie Nord de l’île. \nModalités pratiques : ouvert à tous\, homme/femme de plus de 18 ans.  \nCo-animé par Cécile Jambu et  Véronique Languille \nParticipation :  \nDeux options s’offrent à vous : \n220 € :  stage uniquement sans repas\, sans hébergement. Le stage démarre le vendredi soir à 18h et reprend le samedi matin avant la première traversée\, il est donc obligatoire de loger sur l’île. Merci de votre compréhension. \nForfait 150 € : hébergement deux nuits chez Semaphorus (vendredi & samedi)\, dans les chambres partagées entre participants. Supplément chambre double individuelle sur demande et dans la limite des places disponibles. (Possibilité de nuitée supplémentaire sur demande.)\, les petits déjeuners\, les repas du vendredi soir\, du samedi midi et soir et dimanche midi. Les repas sont végétariens et confectionnés à base de produits majoritairement bio et locaux. Durant la saison touristique\, le repas du vendredi et/ou samedi soir pourra être pris dans un restaurant de l’île. \nOrganisation pratique : \nPour vous inscrire\, il suffit d’envoyer un mail avec vos coordonnées et de nous faire parvenir des arrhes de 100€ par chèque à l’ordre de Semaphorus à l’adresse suivante : Semaphorus\, chemin vert\, 22870 Ile-de-Bréhat ou par virement bancaire (coordonnées sur demande).\nVotre inscription sera enregistrée après réception dudit versement. \nLes horaires précis et les aspects pratiques vous seront confirmés par mail dès votre inscription pour vous permettre de vous organiser.\nPensez à consulter nos conditions générales de vente. \nJe m’inscris \n  \nillustration Etzi  \nTémoignages
URL:https://www.semaphorus.fr/planning-activites/stage-reconnexion-aux-4-elements/
LOCATION:île de Bréhat\, grève de l'église\, Bréhat\, 22870\, France
CATEGORIES:Sagesse/spiritualité
ATTACH;FMTTYPE=image/jpeg:https://www.semaphorus.fr/wp-content/uploads/2015/06/0537789001368509163.jpg
ORGANIZER;CN="Semaphorus":MAILTO:veronique@semaphorus.fr
END:VEVENT
END:VCALENDAR