BEGIN:VCALENDAR
VERSION:2.0
PRODID:-//Semaphorus - ECPv6.15.20//NONSGML v1.0//EN
CALSCALE:GREGORIAN
METHOD:PUBLISH
X-ORIGINAL-URL:https://www.semaphorus.fr
X-WR-CALDESC:Évènements pour Semaphorus
REFRESH-INTERVAL;VALUE=DURATION:PT1H
X-Robots-Tag:noindex
X-PUBLISHED-TTL:PT1H
BEGIN:VTIMEZONE
TZID:UTC
BEGIN:STANDARD
TZOFFSETFROM:+0000
TZOFFSETTO:+0000
TZNAME:UTC
DTSTART:20180101T000000
END:STANDARD
END:VTIMEZONE
BEGIN:VTIMEZONE
TZID:Europe/Paris
BEGIN:DAYLIGHT
TZOFFSETFROM:+0100
TZOFFSETTO:+0200
TZNAME:CEST
DTSTART:20180325T010000
END:DAYLIGHT
BEGIN:STANDARD
TZOFFSETFROM:+0200
TZOFFSETTO:+0100
TZNAME:CET
DTSTART:20181028T010000
END:STANDARD
BEGIN:DAYLIGHT
TZOFFSETFROM:+0100
TZOFFSETTO:+0200
TZNAME:CEST
DTSTART:20190331T010000
END:DAYLIGHT
BEGIN:STANDARD
TZOFFSETFROM:+0200
TZOFFSETTO:+0100
TZNAME:CET
DTSTART:20191027T010000
END:STANDARD
BEGIN:DAYLIGHT
TZOFFSETFROM:+0100
TZOFFSETTO:+0200
TZNAME:CEST
DTSTART:20200329T010000
END:DAYLIGHT
BEGIN:STANDARD
TZOFFSETFROM:+0200
TZOFFSETTO:+0100
TZNAME:CET
DTSTART:20201025T010000
END:STANDARD
END:VTIMEZONE
BEGIN:VEVENT
DTSTART;TZID=UTC:20190531T100000
DTEND;TZID=UTC:20190602T170000
DTSTAMP:20260420T222559
CREATED:20181117T150337Z
LAST-MODIFIED:20190206T154048Z
UID:5191-1559296800-1559494800@www.semaphorus.fr
SUMMARY:Formation Massage bien-être* Relaxation coréenne (3j)
DESCRIPTION:La relaxation coréenne : \nC’est une technique de relaxation ancestrale. Tonique\, douce\, fluide et vibrante\, elle surprend le corps et l’invite à se laisser aller tout en déconnectant le mental. Il procure une profonde détente et une réappropriation de son corps. Elle se pratique habillée. Cette technique est tout particulièrement appréciée des enfants ! \n*(non thérapeutique\, non médical) \nObjectifs pédagogiques : \n\nRéaliser des soins de relaxation auprès de clients ou patients.\nAider les clients ou patients à retrouver une grande sérénité.\nCalmer les enfants toniques\, dans ce soin habillé\nApporter une détente musculaire aux sportifs après l’effort\n\nConditions d’admission : \nEtre Praticiens en massage bien-être\,  soins corporels; Professionnels du massage pour des remises à niveau; Professionnels de santé paramédicale; Professionnels de santé médicale; Professionnels de l’esthétique ; Professionnels du secteur sanitaire : infirmiers\, sages-femmes…; Demandeurs d’emploi en reconversion de praticiens en massage ; Professionnels en reconversion de praticiens en massage ; Enseignants de yoga\, qi gong\, tai chi chuan \nDurée :\nNombre de jours : 3 (10h-18h) Nombre d’heures : 21 \nAnimée par Audrey de .kerayu.com \nParticipation :  \nDeux options s’offrent à vous : \n375 € :  stage uniquement sans repas\, sans hébergement. Le stage démarre le vendredi à 10h\, vous pouvez donc arriver par la vedette de 8h15 ou 9h30. \nForfait 160 € : hébergement deux nuits chez Semaphorus (vendredi & samedi)\, dans les chambres partagées entre participants. Supplément chambre double individuelle sur demande et dans la limite des places disponibles. (Possibilité de nuitée supplémentaire sur demande.)\, les petits déjeuners\, les repas du vendredi midi et soir\, du samedi midi et soir et dimanche midi. Les repas sont végétariens et confectionnés à base de produits majoritairement bio et locaux. Durant la saison touristique\, le repas du vendredi et/ou samedi soir pourra être pris dans un restaurant de l’île. \nOrganisation pratique : \nPour vous inscrire\, il suffit d’envoyer un mail avec vos coordonnées et de nous laire parvenir des arrhes de 100€ par chèque à l’ordre de Semaphorus à l’adresse suivante : Semaphorus\, chemin vert\, 22870 Ile-de-Bréhat ou par virement bancaire (coordonnées sur demande).\nVotre inscription sera enregistrée après réception dudit versement. Possibilité de payer en plusieurs fois sur simple demande. \nLes horaires précis et les aspects pratiques vous seront confirmés par mail dès votre inscription pour vous permettre de vous organiser.\nPensez à consulter nos conditions générales de vente. \nJe m’inscris
URL:https://www.semaphorus.fr/planning-activites/formation-massage-bien-etre-relaxation-coreenne-3j/
LOCATION:île de Bréhat\, grève de l'église\, Bréhat\, 22870\, France
CATEGORIES:Santé/forme/beauté
ATTACH;FMTTYPE=image/jpeg:https://www.semaphorus.fr/wp-content/uploads/2018/11/MG_7530.jpg
ORGANIZER;CN="Semaphorus":MAILTO:veronique@semaphorus.fr
END:VEVENT
BEGIN:VEVENT
DTSTART;TZID=UTC:20190603T093000
DTEND;TZID=UTC:20190607T113000
DTSTAMP:20260420T222559
CREATED:20180610T091832Z
LAST-MODIFIED:20190416T115432Z
UID:4890-1559554200-1559907000@www.semaphorus.fr
SUMMARY:Je prends rendez-vous avec moi-même
DESCRIPTION:***************CE STAGE EST REPORTE A UNE DATE ULTERIEURE EN 2020************************************************************************************************************************************************************************ \nEt si vous profitiez de vos vacances pour prendre rendez-vous avec vous-même ? avec vous m’aime…?\nDans la douceur d’un cocon\, venez vous rencontrer\, prendre conscience de vos atouts\, de vos talents\, de votre valeur et augmenter votre confiance en vous\, découvrir quels schémas répétitifs limitants que vous reproduisez et vous en libérer. \nCinq matinées seront consacrées à des réflexions et outils concrets pour augmenter votre confiance en vous. Les ateliers seront dédiés la découverte d’outils concrets qui permettent prise de conscience et remise en question pour augmenter votre confiance en vous et vous permettre de repartir reboosté et confiant de vos talents. \nLe reste de la journée\, vous profitez de vos vacances dans un cadre idyllique. \nAnimé par Véronique Languille\, thérapeute comportementaliste\, maître praticien PNL\, praticienne en CNV (communication non violente)\, enseignante de méditation. \nParticipation :  \n250 € : stage uniquement sans repas\, sans hébergement. \nOrganisation pratique : \nPour vous inscrire\, il suffit d’envoyer un mail avec vos coordonnées et de nous faire parvenir des arrhes de 100€ par chèque à l’ordre de Semaphorus à l’adresse suivante : Semaphorus\, chemin vert\, 22870 Ile-de-Bréhat ou par virement bancaire (coordonnées sur demande).\nVotre inscription sera enregistrée après réception dudit versement. \nLes aspects pratiques vous seront confirmés par mail dès votre inscription pour vous permettre de vous organiser.\nPensez à consulter nos conditions générales de vente. \nJe m’inscris
URL:https://www.semaphorus.fr/planning-activites/confiance-en-soi/
LOCATION:île de Bréhat\, grève de l'église\, Bréhat\, 22870\, France
CATEGORIES:Développement personnel
ATTACH;FMTTYPE=image/jpeg:https://www.semaphorus.fr/wp-content/uploads/2018/06/confiance-en-soi-1-610x407.jpg
ORGANIZER;CN="Semaphorus":MAILTO:veronique@semaphorus.fr
END:VEVENT
BEGIN:VEVENT
DTSTART;TZID=Europe/Paris:20190615T100000
DTEND;TZID=Europe/Paris:20190615T170000
DTSTAMP:20260420T222559
CREATED:20190603T125356Z
LAST-MODIFIED:20190603T125530Z
UID:5831-1560592800-1560618000@www.semaphorus.fr
SUMMARY:Journée "Échec et mat" - Peur de l'échec et Perfectionnisme
DESCRIPTION:Peur de l’échec encombre votre vie perso ou pro ?\nPerfectionnisme a toujours quelque chose à dire sur ce que vous faites ?\nA travers des jeux\, la PNL (Programmation Neuro Linguistique)\, et les Pratiques Narratives\, cet atelier propose de jouer avec l’échec et invite à se réconcilier avec l’imperfection afin de se lancer et d’oser tout simplement. Et cela dans le jeu et la bonne humeur ! \nDéroulement de la partie :\nL’Enjouée accueille les joueurs à 9h\, pour prendre la vedette de 9h30 direction Bréhat\, et le Semaphorus !\nTout au long de la journée\, l’Enjouée et les joueurs vont partager des jeux\, des moments de partage d’expérience\, de l’exploration individuelle\, de la stratégie collective sur les thèmes de l’Echec\, de la Peur de l’Echec et du Perfectionnisme.\nLes joueurs pourront explorer leurs problématiques personnelles et professionnelles\, et mettre directement en application ce qu’ils auront découvert\, afin d’établir une stratégie pour contrer les plans de Peur de l’Echec et Perfectionnisme. \nBut du jeu :\n¤ changer le regard sur l’échec afin de le voir comme un Messager plutôt qu’une punition\n¤ entrer en communication avec Peur de l’Échec et Perfectionnisme afin de comprendre leurs intentions\, de trouver un compromis qui convient et de négocier un traité de paix\n¤ révéler la richesse de ses ressources et de ses stratégies\n¤ définir de nouvelles stratégies\, des petits pas et des défis concrets pour avancer dans ses projets\n¤ s’amuser en avançant ! \n>> Repartez avec des stratégies pour contrer les plans de Peur de l’Échec et Perfectionnisme au quotidien\, dans votre vie et dans vos projets. << \nPlaces limitées à 10 pour assurer un approfondissement personnalisé pour chacun.e.\n80€ pour la journée\nPrévoir en plus 8€80 pour la traversée en vedette et 5€ de parking\n(possibilité de faire de covoiturage pour limiter les dépenses essence et parking)\nRepas non compris\, amenez votre picnic (nous le dégusterons dehors dans des paysages magnifiques si le temps le permet)\nRDV à 9h pour un départ en vedette à 9h30\nDébut de l’atelier vers 10h\, fin vers 17h\, avec possibilité de se balader sur l’ile jusqu’au départ de la dernière vedette.\nAnimé par Doria Roustan \nPlus d’infos et inscriptions :\n06 85 11 58 51 / contact@etisionenjouait.fr
URL:https://www.semaphorus.fr/planning-activites/journee-echec-et-mat-peur-de-lechec-et-perfectionnisme/
LOCATION:île de Bréhat\, grève de l'église\, Bréhat\, 22870\, France
ATTACH;FMTTYPE=image/jpeg:https://www.semaphorus.fr/wp-content/uploads/2019/06/echec-et-mat.jpg
ORGANIZER;CN="Semaphorus":MAILTO:veronique@semaphorus.fr
END:VEVENT
BEGIN:VEVENT
DTSTART;TZID=UTC:20190628T130000
DTEND;TZID=UTC:20190630T160000
DTSTAMP:20260420T222559
CREATED:20180731T082032Z
LAST-MODIFIED:20190226T073109Z
UID:5004-1561726800-1561910400@www.semaphorus.fr
SUMMARY:Naissance et Re-naissance
DESCRIPTION:La naissance est à la fois un processus et un acte fondateur de notre vie. La manière dont nous avons été conçus\, portés\, touchées et attendus créé notre rapport inconscient au monde et à nos projets. Transformer cette expérience\, ouvre de nouvelles perspectives de se penser et d’être au monde.Ce stage intensif en Analyse Psycho Organique de 3 jours propose un travail de régression sous forme de rêves éveillés\, pour retrouver nos sensations\, nos émotions et nos images préverbales ( elles ont formé nos croyances inconscientes et archaïques avec la vie). Puis\, lors d’un travail en matrice\, il est proposé de transformer son expérience initiale de naissance pour « engrammer » dans son corps et au plus profond de son être\, de nouvelles sensations\, émotions et images. Cette expérience permet de récupérer des parties de soi perdues ou abandonnées en chemin et de se réapproprier son énergie vitale pour l’incarner pleinement. \n » Renaître\, c’est se relier à la source de son Etre\, « se réinitialiser » «  \nAnimé par Claire D’Hennezel\, psychothérapeute titularisée en Analyse Psycho Organique\, formée au psychodrame analytique. Elle anime ce stage depuis plus de 15 ans. \nLieu : Semaphorus-BréhatParticipation : 350 € + prix de l’hébergement en pension complète pour les 3 jours : 180 € \nInscription : claire.balila@free.fr ou 06 64 76 29 31 \nAnimé par Claire D’Hennezel \n  \n 
URL:https://www.semaphorus.fr/planning-activites/naissance-a-soi/
LOCATION:île de Bréhat\, grève de l'église\, Bréhat\, 22870\, France
CATEGORIES:Développement personnel
ATTACH;FMTTYPE=image/jpeg:https://www.semaphorus.fr/wp-content/uploads/2018/07/Raconte-moi-ta-naiance-pour-connaitre-ta-vie.jpg
ORGANIZER;CN="Claire D'Hennezel":MAILTO:claire.balila@free.fr
END:VEVENT
END:VCALENDAR