BEGIN:VCALENDAR
VERSION:2.0
PRODID:-//Semaphorus - ECPv6.15.20//NONSGML v1.0//EN
CALSCALE:GREGORIAN
METHOD:PUBLISH
X-WR-CALNAME:Semaphorus
X-ORIGINAL-URL:https://www.semaphorus.fr
X-WR-CALDESC:Évènements pour Semaphorus
REFRESH-INTERVAL;VALUE=DURATION:PT1H
X-Robots-Tag:noindex
X-PUBLISHED-TTL:PT1H
BEGIN:VTIMEZONE
TZID:UTC
BEGIN:STANDARD
TZOFFSETFROM:+0000
TZOFFSETTO:+0000
TZNAME:UTC
DTSTART:20180101T000000
END:STANDARD
END:VTIMEZONE
BEGIN:VEVENT
DTSTART;TZID=UTC:20190705T180000
DTEND;TZID=UTC:20190707T160000
DTSTAMP:20260420T204747
CREATED:20170602T173910Z
LAST-MODIFIED:20190520T060320Z
UID:3982-1562349600-1562515200@www.semaphorus.fr
SUMMARY:Reconnecter son androgynie primordiale
DESCRIPTION:Vous êtes en chemin et avez envie de franchir une nouvelle étape ? Ce stage est un catalyseur de transformation.\nNous vous proposons un processus initiatique pour intégrer la puissance de votre unité sacrée et les couples qui la constituent : conscience-énergie\, masculin-féminin\, douceur-puissance\, ombre-lumière.\nPour repartir centré\, unifié\, aligné. \nCo animé par Véronique Languille\, thérapeute et Pierre Mendras\, professeur de yoga\, tous deux praticiens en chamanisme. \nDates :\n5-6-7 juillet. \nParticipation :  \nDeux options s’offrent à vous : \n220 € :  stage uniquement sans repas\, sans hébergement. Le stage démarre le vendredi soir à 18h et reprend le samedi matin avant la première traversée\, il est donc obligatoire de loger sur l’île. Merci de votre compréhension. \nForfait 150 € : hébergement deux nuits chez Semaphorus (vendredi & samedi)\, dans les chambres partagées entre participants (Possibilité de nuitée supplémentaire sur demande.)\, les petits déjeuners\, les repas du vendredi soir\, du samedi midi et soir et dimanche midi. Les repas sont végétariens et confectionnés à base de produits majoritairement bio et locaux. Durant la saison touristique\, le repas du vendredi et/ou samedi soir pourra être pris dans un restaurant de l’île. \nOrganisation pratique : \nPour vous inscrire\, il suffit d’envoyer un mail avec vos coordonnées et de nous faire parvenir des arrhes de 100€ par chèque à l’ordre de Semaphorus à l’adresse suivante : Semaphorus\, chemin vert\, 22870 Ile-de-Bréhat ou par virement bancaire (coordonnées sur demande).\nVotre inscription sera enregistrée après réception dudit versement. \nLes horaires précis et les aspects pratiques vous seront confirmés par mail dès votre inscription pour vous permettre de vous organiser.\nPensez à consulter nos conditions générales de vente. \nJe m’inscris
URL:https://www.semaphorus.fr/planning-activites/reconnecter-son-androgynie-primordiale/
LOCATION:île de Bréhat\, grève de l'église\, Bréhat\, 22870\, France
CATEGORIES:Sagesse/spiritualité
ATTACH;FMTTYPE=image/jpeg:https://www.semaphorus.fr/wp-content/uploads/2017/06/shiva-shakti-parvati.jpg
ORGANIZER;CN="Semaphorus":MAILTO:veronique@semaphorus.fr
END:VEVENT
END:VCALENDAR